BEGIN:VCALENDAR
VERSION:2.0
PRODID:-//https://takethedate.it///NONSGML kigkonsult.se iCalcreator 2.10.15//
METHOD:PUBLISH
BEGIN:VEVENT
UID:20260419T144137CEST-7857JJi7Tu@https://takethedate.it/
DTSTAMP:20260419T124137Z
DESCRIPTION:Mercoledì 15 maggio convegno di studi su Vittorio de CaprariisN
 apoli\, 15 maggio ore 9-13 https://takethedate.it/Eventi/42135-vittorio-de
 -caprariis-fra-storia-e-politica.html
DTSTART:20240515T070000Z
DTEND:20240515T110000Z
LOCATION:Napoli (Napoli)
SUMMARY:Vittorio de Caprariis: fra storia e politica
URL:https://takethedate.it/Eventi/42135-vittorio-de-caprariis-fra-storia-e-
 politica.html
END:VEVENT
END:VCALENDAR
