BEGIN:VCALENDAR
VERSION:2.0
PRODID:-//https://takethedate.it///NONSGML kigkonsult.se iCalcreator 2.10.15//
METHOD:PUBLISH
BEGIN:VEVENT
UID:20260422T212507CEST-3575mLfIil@https://takethedate.it/
DTSTAMP:20260422T192507Z
DESCRIPTION:Dove: online\, piattaforma Zoom\nQuando: 24 aprile 2024 (15:30 
 - 17:30)\nPresentazione e dibattito a partire dal libro di Piero Dominici 
 “Oltre i cigni neri. L'urgenza di aprirsi all'indeterminato” con la prefaz
 ione di Edgar Morin\, Franco Angeli 2023.“Oltre i cigni neri. L'urgenza di
  aprirsi all'indeterminato” è il saggio di Piero Dominici\, professore ass
 ociato dell'Università degli Studi di Perugia e membro del Comitato scient
 ifico di ComPubblica. Nell'opera\, edita da Franco Angeli\, il prof. Domin
 ici sottolinea come la civiltà ipertecnologica e ipercomplessa in cui vivi
 amo si autorappresenti come in grado di semplificare tutto e di eliminare 
 l'errore e l'imprevedibilità dalle nostre vite. Quando invece sarebbe nece
 ssario che provasse ad apprendere\, proprio attraverso l'errore e l'imprev
 edibilità\, come aprirsi all'indeterminato. Per farlo\, serve un ripensame
 nto profondo delle epistemologie e delle metodologie che plasmano e caratt
 erizzano insegnamento\, educazione\, formazione\, ricerca.A coloro che par
 teciperanno all'incontro gratuito verranno attribuiti 2 crediti formativi 
 utili per la qualificazione professionale di 'comunicatore pubblico' ai se
 nsi della L. 4/2013.Per poter partecipare\, scrivere a compubblica@compubb
 lica.it entro lunedì 22 aprile 2024. Posti limitati.  https://takethedate.
 it/Eventi/41773-oltre-i-cigni-neri-lurgenza-di-aprirsi-allindeterminato.ht
 ml
DTSTART:20240424T133000Z
DTEND:20240424T153000Z
LOCATION:evento online  ()
SUMMARY:Oltre i cigni neri. L'urgenza di aprirsi all'indeterminato
URL:https://takethedate.it/Eventi/41773-oltre-i-cigni-neri-lurgenza-di-apri
 rsi-allindeterminato.html
END:VEVENT
END:VCALENDAR
