BEGIN:VCALENDAR
VERSION:2.0
PRODID:-//https://takethedate.it///NONSGML kigkonsult.se iCalcreator 2.10.15//
METHOD:PUBLISH
BEGIN:VEVENT
UID:20260424T220937CEST-9525P6ARtX@https://takethedate.it/
DTSTAMP:20260424T200937Z
DESCRIPTION:WEC Italy has the pleasure to invite you in Rotterdam the next 
 23 of April (10.15 to 11.45 CET time\, Rotterdam Ahoy at Ahoyweg 10\, 3084
  BA Rotterdam\, Dock 13) for the seminar 'Energy Transition in the Mediter
 ranean Area'\, official side event of the 26° World Energy Congress. Organ
 ized together with OMEC and in collaboration with Edison\, the debate will
  be the occasion to depeen the regional energy perspectives and to present
  the 'WEC Med Energy Transition Check-list'\, result of the first year of 
 discussions between the members of the WEC Med cross-regional collaboratio
 n initiative led by WEC Italy.  The side event is open to all the Congress
  delegates (here more info to attend the Congress\, contact us for fee dis
 counts)\, upon registration using the form below. For any further informat
 ion do not hesitate to contact us at segreteria@wec-italia.org https://tak
 ethedate.it/Eventi/41692-energy-transition-in-the-mediterranean-area.html
DTSTART:20240423T080000Z
DTEND:20240423T100000Z
LOCATION:Rotterdam (Rotterdam)
SUMMARY:Energy Transition in the Mediterranean Area
URL:https://takethedate.it/Eventi/41692-energy-transition-in-the-mediterran
 ean-area.html
END:VEVENT
END:VCALENDAR
