BEGIN:VCALENDAR
VERSION:2.0
PRODID:-//https://takethedate.it///NONSGML kigkonsult.se iCalcreator 2.10.15//
METHOD:PUBLISH
BEGIN:VEVENT
UID:20260426T040539CEST-1436J5BZkW@https://takethedate.it/
DTSTAMP:20260426T020539Z
DESCRIPTION:Intervengono:Flavio Barozzi (presidente della Società Agraria d
 i Lombardia)Antonio Biancardi (imprenditore agricolo\, già presidente di F
 ederlombarda Confagricoltura)Dario Frisio (professore ordinario di Economi
 a agraria all'Università di Milano) Benedetta Rospigliosi (imprenditrice a
 gricola) Introduce e coordina:Alberto Mingardi (direttore generale\, Istit
 uto Bruno Leoni)Evento organizzato in collaborazione con la Società Agrari
 a di LombardiaÈ possibile partecipare all'evento anche nella stanza virtua
 le Zoom cliccando sul link: bit.ly/. Per l'accesso da app o sito web - web
 inar ID: / password: ibl. La diretta streaming verrà inoltre trasmessa sul
 la pagina Facebook dell'IBL. https://takethedate.it/Eventi/40573-la-protes
 ta-viaggia-sui-trattori-serve-una-nuova-politica-agricola-comune.html
DTSTART:20240212T170000Z
DTEND:20240212T183000Z
LOCATION: ()
SUMMARY:La protesta viaggia sui trattori. Serve una nuova Politica Agricola
  Comune?
URL:https://takethedate.it/Eventi/40573-la-protesta-viaggia-sui-trattori-se
 rve-una-nuova-politica-agricola-comune.html
END:VEVENT
END:VCALENDAR
