BEGIN:VCALENDAR
VERSION:2.0
PRODID:-//https://takethedate.it///NONSGML kigkonsult.se iCalcreator 2.10.15//
METHOD:PUBLISH
BEGIN:VEVENT
UID:20260422T110845CEST-0472Oud19s@https://takethedate.it/
DTSTAMP:20260422T090845Z
DESCRIPTION:Roma\, 19 settembre 2023\nRegolamentare la rappresentanza degli
  interessi è\, nel nostro Paese\, uno dei principali temi di discussione d
 a oltre cinquanta anni. La mancanza di una chiara\, univoca ed efficace no
 rmativa sul lobbying non solo incide negativamente sulla crescita economic
 a del Paese\, ma ci ha reso un unicum nel panorama delle democrazie occide
 ntali.\nDa dove partire? In un contesto di sfiducia strutturale dei cittad
 ini nei confronti delle classi dirigenti\, una normativa su questo che fac
 iliti la creazione di un rapporto fondato sui criteri di trasparenza e cor
 rettezza potrebbe invertire il fenomeno e favorire la partecipazione dei c
 ittadini oltre a migliorare la qualità della nostra democrazia.\nRappresen
 tanza di interessi\, lobbying\, public affairs\, relazioni pubbliche o..?
 \nQuando si parla di attività di lobbying ci sono sempre definizioni\, app
 rocci\, chiavi di lettura differenti in base all’interlocutore di turno e 
 questo si riverbera\, conseguentemente\, sugli obblighi e relative deroghe
  da applicare per una efficace regolamentazione.\nChe ruolo hanno la comun
 icazione e l’editoria nell’attività di lobbying? Sono solo un mezzo o vi è
  una ibridazione tra settori diversi?\nLa digitalizzazione e la diffusione
  delle piattaforme di comunicazione social hanno stravolto completamente i
 l mondo dei media\, dell’editoria e della comunicazione. La facilità di ac
 cesso alle informazioni ha\, difatti\, cambiato il valore\, la funzione e 
 la natura stessa dell’informazione creando una maggiore contiguità e commi
 stione di questi settori.\nSono queste le domande a cui Fortune Italia int
 ende dare una risposta con il contributo di esponenti politici\, professio
 nisti e accademici.\nAgenda15:00 Registrazione dei partecipanti\n15:20 Ape
 rtura dei lavori\nMassimo Bray\, Direttore TreccaniLeonardo Donato\, Ceo F
 ortune Italia\n16:00 Sessioni tematiche parallele\nInformazione tra editor
 ia\, comunicazione e lobbyingLe competenze nella rappresentanza d’interess
 iDiritti e interessi: quali differenze?Lobbying dei giovani\, lobbying per
  i giovaniRappresentanza d’interessi\, consulenza strategica e professione
  legaleIl sistema delle relazioni pubbliche a livello internazionale\n17:4
 5 Tavola rotonda\nComunicazione\, editoria e rappresentanza d’interessi: q
 uale futuro?\nFederico Anghelè\, Direttore The Good Lobby ItaliaDavide Ard
 uini\, Presidente UNADaniela Bianchi\, Segretaria Generale FERPINiccolò De
  Arcayne\, Segretario Generale AGOLAngela Marchese\, Presidente Il Chiostr
 oMarcello Presicci\, Segratario Generale Scuola Politica “Vivere nella Com
 unità”\n18:30 Tavola rotonda\nUn sistema in cerca di regole\nAlberto Alema
 nno\, Ordinario Diritto Unione Europea HEC ParisAlberto Balboni\, Presiden
 te I Commissione Senato della Repubblica*Carla Bassu\, Ordinario Diritto P
 ubblico comparato Università di SassariSalvatore De Meo\, Presidente Commi
 ssione Affari Costituzionali Parlamento EuropeoNazario Pagano\, Presidente
  I Commissione Camera dei Deputati https://takethedate.it/Eventi/38630-com
 unicazione-editoria-e-rappresentanza-di-interessi-quale-futuro.html
DTSTART:20230919T130000Z
DTEND:20230919T173000Z
LOCATION: ()
SUMMARY:Comunicazione\, Editoria e Rappresentanza di interessi: Quale futur
 o?
URL:https://takethedate.it/Eventi/38630-comunicazione-editoria-e-rappresent
 anza-di-interessi-quale-futuro.html
END:VEVENT
END:VCALENDAR
