BEGIN:VCALENDAR
VERSION:2.0
PRODID:-//https://takethedate.it///NONSGML kigkonsult.se iCalcreator 2.10.15//
METHOD:PUBLISH
BEGIN:VEVENT
UID:20260421T194702CEST-67036vJM7p@https://takethedate.it/
DTSTAMP:20260421T174702Z
DESCRIPTION:Africa Business Lab è un progetto ideato e promosso da Agenzia 
 ICE in collaborazione con SACE e Confindustria Assafrica & Mediterraneo. I
 l percorso\, giunto alla terza edizione offre un programma di accompagname
 nto integrato e gratuito per PMI italiane che vogliono conoscere meglio il
  continente africano. Esso propone un percorso di alfabetizzazione per pro
 muovere un’immagine aggiornata del continente africano focalizzandosi sull
 e peculiarità dei diversi contesti per cogliere nuove opportunità di affar
 i.\nAfrica Business Lab ha l'obiettivo di promuovere un’immagine aggiornat
 a del continente africano\, al passo con i trend economici e sociali già i
 n atto (incremento demografico\, urbanizzazione in atto\, accordi di integ
 razione regionale) ed invita a guardare all'Africa di oggi come ad un cont
 inente di opportunità e non solo di rischio. È strutturato in una parte in
 formativa con due webinar dedicati alle PMI italiane interessate ad operar
 e sui mercati africani con una strategia di internazionalizzazione più str
 utturata e una parte formativa dedicata al settore Agribusiness che si art
 icolerà in tre sessioni con interventi di esperti e professionisti che aff
 ronteranno i temi chiave per operare nei contesti africani.\nL’iniziativa 
 offre un pacchetto integrato tra formazione e coaching con l’obiettivo di 
 fornire alle PMI italiane strumenti di conoscenza ed operativi per affront
 are i mercati africani con maggiore consapevolezza\, preparazione e non ul
 timo con una strategia di internazionalizzazione più strutturata.\nIl prog
 etto è finalizzato a:\nConoscere i fattori strategici\, socio-culturali\, 
 legali\, gestionali e le modalità di accesso ad alcuni mercati target in t
 re settori di crescita: agribusiness\, energia ed infrastrutture\, già aff
 rontati nella prima edizione\;Connettersi\, sviluppando una rete di contat
 ti di affari affidabili\, sia a livello istituzionale che nel settore priv
 ato\;Costruire forme di partenariato commerciale\, tecnologico ed industri
 ale con imprese africane.Programma\nNell’ambito della terza edizione del p
 rogetto ABL – Africa Business Lab\, e dopo il grande successo del percorso
  dedicato all'agribusiness\, l’Agenzia ICE in collaborazione con SACE e Co
 nfindustria Assafrica & Mediterraneo organizza tre giorni di approfondimen
 ti su ICT & Digitale per le PMI italiane interessate ad operare sui mercat
 i africani.\nIl percorso di formazione si articolerà in tre sessioni con i
 nterventi di esperti e professionisti che affronteranno i temi chiave in a
 mbito digital e ITC per operare nei contesti africani.\nOgni sessione form
 ativa avrà una durata di circa due ore e mezza l’una con possibilità di in
 terazione con i relatori. Inoltre\, il 18 ottobre 2023 è previsto un incon
 tro formativo conclusivo in presenza in occasione di SMAU Milano 2023.\nIn
  seguito alla fase di formazione le aziende che avranno seguito integralme
 nte le sessioni formative\, riceveranno un attestato di partecipazione. Ve
 rrà quindi stilata una graduatoria di merito tramite elementi di valutazio
 ne pubblici e le prime otto aziende selezionate beneficeranno di una sessi
 one di coaching individuale di otto ore\, che saranno erogate entro dicemb
 re 2023 da esperti della Faculty ICE\, per definire la strategia di ingres
 so in uno dei mercati target.\nI seminari si svolgeranno in modalità webin
 ar.  https://takethedate.it/Eventi/38500-africa-business-lab-2023.html
DTSTART:20230927T080000Z
DTEND:20230929T100000Z
LOCATION:evento online  ()
SUMMARY:Africa Business Lab 2023
URL:https://takethedate.it/Eventi/38500-africa-business-lab-2023.html
END:VEVENT
END:VCALENDAR
