BEGIN:VCALENDAR
VERSION:2.0
PRODID:-//https://takethedate.it///NONSGML kigkonsult.se iCalcreator 2.10.15//
METHOD:PUBLISH
BEGIN:VEVENT
UID:20260423T153842CEST-0551SKCh4X@https://takethedate.it/
DTSTAMP:20260423T133842Z
DESCRIPTION:Venerdì 26 maggio 2023\, presso la Sala di Rappresentanza dell’
 Università degli Studi di Milano\, si terrà la presentazione di Milan High
 er Education Observatory (MHEO)\, l’osservatorio che fa parte dello Spoke 
 6\, dedicato all'innovazione per società sostenibili e inclusive\, di MUSA
  - Multilayered Urban Sustainability Action\, un ecosistema dell’innovazio
 ne all'interno della Missione “Istruzione e Ricerca” del PNRR.\nDurante l’
 incontro sarà presentato il rapporto “Dimensioni\, dinamiche e attrattivit
 à dell’istruzione terziaria milanese e lombarda”\, che mette per la prima 
 volta a sistema i dati provenienti da Università\, CINECA e MUR.\nL’osserv
 atorio\, focalizzato sull’istruzione terziaria e sull’apprendimento perman
 ente\, ha lo scopo di connettere l’istruzione terziaria (università\, isti
 tuti AFAM e ITS) della città di Milano e della Lombardia in generale con i
 l mondo delle imprese.Organizzatore: Università degli Studi di Milano\nDat
 a e ora di inizio: 26 maggio 2023\, ore 11:00\nLuogo: Sala di Rappresentan
 za via Festa del Perdono\, 7\, 20122 Milano (MI)\nL’evento sarà trasmesso 
 anche in streaming: Per poter partecipare in presenza è necessario registr
 arsi compilando il form online.\nÈ possibile seguire l’incontro anche in d
 iretta streaming sul canale YouTube di Ateneo.\nPer maggiori informazioni 
 consultare il programma completo dell’evento. https://takethedate.it/Event
 i/37524-presentazione-di-milan-higher-education-observatory-mheo.html
DTSTART:20230526T090000Z
DTEND:20230526T110000Z
LOCATION:ibrido (#)
SUMMARY:Presentazione di Milan Higher Education Observatory (MHEO)
URL:https://takethedate.it/Eventi/37524-presentazione-di-milan-higher-educa
 tion-observatory-mheo.html
END:VEVENT
END:VCALENDAR
