BEGIN:VCALENDAR
VERSION:2.0
PRODID:-//https://takethedate.it///NONSGML kigkonsult.se iCalcreator 2.10.15//
METHOD:PUBLISH
BEGIN:VEVENT
UID:20260420T203530CEST-85698FuwfD@https://takethedate.it/
DTSTAMP:20260420T183530Z
DESCRIPTION:Dalla raccolta\, allo smaltimento fino alla realizzazione di ca
 pi di abbigliamento. In Molise nasce Res - Recupero Etico Sostenibile. Il 
 nuovo progetto industriale sarà presentato il 6 dicembre alle 16\, nell’ex
  Ittierre\, a Pettoranello\, in provincia di Isernia\, dagli imprenditori 
 Antonio Lucio Valerio e Antonio Alessandro Valerio\, a capo dal 1989 di Sm
 altimenti Sud\, azienda molisana specializzata nella raccolta\, trasporto\
 , valorizzazione e smaltimento di rifiuti urbani.\nPartendo appunto dalla 
 raccolta\, lo smaltimento ed il riciclo dei materiali\, la famiglia Valeri
 o ha lanciato una nuova impresa di filiera integrata\, prevedendo la gesti
 one dell’intero processo produttivo che dai rifiuti porti alla realizzazio
 ne di vestiti. Iniziativa\, questa\, che risponde saldamente ai principi e
  agli obiettivi fissati dalla Missione 2 del Piano Nazionale di Ripresa e 
 Resilienza\, riguardante la rivoluzione verde e la transizione ecologica.
 \nAll’evento\, dal titolo PNRR e opportunità per il Molise: il progetto RE
 S\, ricerca e sviluppo per l’economia circolare\, dopo i saluti del sindac
 o di Pettoranello\, Marcello Toto\, verrà presentato il piano industriale 
 RES dagli imprenditori Antonio Lucio Valerio e Antonio Alessandro Valerio.
  A seguire\, interverranno l’europarlamentare Aldo Patriciello\, il senato
 re Salvatore Margiotta\, membro della Commissione Lavori Pubblici\, la dep
 utata Rosa Alba Testamento\, membro della Commissione Cultura\, Scienza e 
 Istruzione\, il presidente della Regione Molise\, Donato Toma\, il sindaco
  di Isernia\, Piero Castrataro\, il presidente della Provincia Isernia\, A
 lfredo Ricci e il presidente del Tribunale di Isernia\, Vincenzo Di Giacom
 o. Il confronto sarà moderato dal vicedirettore Tg La7\, Andrea Pancani. h
 ttps://takethedate.it/Eventi/29660-pnrr-e-opportunita-per-il-molise-il-pro
 getto-res-ricerca-e-sviluppo-per-leconomia-circolare.html
DTSTART:20211206T150000Z
DTEND:20211206T170000Z
LOCATION:Pettoranello (Pettoranello del Molise\, Isernia)
SUMMARY:PNRR e opportunità per il Molise: il progetto RES\, ricerca e svilu
 ppo per l’economia circolare
URL:https://takethedate.it/Eventi/29660-pnrr-e-opportunita-per-il-molise-il
 -progetto-res-ricerca-e-sviluppo-per-leconomia-circolare.html
END:VEVENT
END:VCALENDAR
