BEGIN:VCALENDAR
VERSION:2.0
PRODID:-//https://takethedate.it///NONSGML kigkonsult.se iCalcreator 2.10.15//
METHOD:PUBLISH
BEGIN:VEVENT
UID:20260422T104540CEST-9033RTgWLF@https://takethedate.it/
DTSTAMP:20260422T084540Z
DESCRIPTION:IR2MA – Large Scale Irrigation Management Tools for Sustainable
  Water Management in Rural Areas and Protection of Receiving Aquatic Ecosy
 stems Project co-funded by European Union\, European Regional Development 
 Funds (E.R.D.F.) and by National Funds of Greece and Italy D.2.1.3. \nRegi
 strazione e partecipazione gratuita: https://attendee.gotowebinar.com/regi
 ster/8915318980804634635\nFollow:Website: https://www.interregir2ma.eu/Fac
 ebook: Interreg IR2MA\nComitato organizzatore:Angelo Parente\, Francesco F
 . Montesano\, Massimiliano D’Imperio\, Francesca Boari\, Vito Cantore http
 s://takethedate.it/Eventi/27023-gestione-efficiente-della-pratica-irrigua-
 e-riutilizzo-delle-acque-reflue-in-ambiente-mediterraneo-il-progetto-ir2ma
 .html
DTSTART:20210611T070000Z
DTEND:20210611T113000Z
LOCATION:evento online  ()
SUMMARY:Gestione efficiente della pratica irrigua e riutilizzo delle acque 
 reflue in ambiente mediterraneo: il progetto IR2MA
URL:https://takethedate.it/Eventi/27023-gestione-efficiente-della-pratica-i
 rrigua-e-riutilizzo-delle-acque-reflue-in-ambiente-mediterraneo-il-progett
 o-ir2ma.html
END:VEVENT
END:VCALENDAR
