BEGIN:VCALENDAR
VERSION:2.0
PRODID:-//https://takethedate.it///NONSGML kigkonsult.se iCalcreator 2.10.15//
METHOD:PUBLISH
BEGIN:VEVENT
UID:20260422T024030CEST-6131kwuuuu@https://takethedate.it/
DTSTAMP:20260422T004030Z
DESCRIPTION:martedì 23 febbraio – ore 18.30\nLa Fondazione Basso segnala un
  incontro di Volere la luna ELOGIO DELLE TASSE di Francesco Pallante (Ediz
 ioni Gruppo Abele\, 2021)\nl’autore ne discute con Livio Pepino\nin dirett
 a streaming: https://youtu.be/ZZ7tJv8SEf4 https://takethedate.it/Eventi/24
 887-elogio-delle-tasse.html
DTSTART:20210223T173000Z
DTEND:20210223T193000Z
LOCATION:evento online  ()
SUMMARY:Elogio delle tasse
URL:https://takethedate.it/Eventi/24887-elogio-delle-tasse.html
END:VEVENT
END:VCALENDAR
