BEGIN:VCALENDAR
VERSION:2.0
PRODID:-//https://takethedate.it///NONSGML kigkonsult.se iCalcreator 2.10.15//
METHOD:PUBLISH
BEGIN:VEVENT
UID:20260421T020125CEST-2775pXxPcl@https://takethedate.it/
DTSTAMP:20260421T000125Z
DESCRIPTION:Iniziativa nell'ambito dell'azione promossa dalla Commissione E
 uropea per il lavoro regolare (#EU4fairwork)\n \n\n\n \n\n https://takethe
 date.it/Eventi/21877-la-promozione-delloccupazione-regolare-e-di-qualita-i
 n-italia-e-in-europa.html
DTSTART:20200921T140000Z
DTEND:20200921T161500Z
LOCATION:evento online  ()
SUMMARY:La promozione dell'occupazione regolare e di qualità in Italia e in
  Europa
URL:https://takethedate.it/Eventi/21877-la-promozione-delloccupazione-regol
 are-e-di-qualita-in-italia-e-in-europa.html
END:VEVENT
END:VCALENDAR
