BEGIN:VCALENDAR
VERSION:2.0
PRODID:-//https://takethedate.it///NONSGML kigkonsult.se iCalcreator 2.10.15//
METHOD:PUBLISH
BEGIN:VEVENT
UID:20260421T003141CEST-7026Rz9HLb@https://takethedate.it/
DTSTAMP:20260420T223141Z
DESCRIPTION:\n\n\n\nRoma\, 24 settembre 2020\nPresentazione del volume “L’A
 merica Latina nella politica internazionale. Dalla fine del sistema bipola
 re alla crisi dell’ordine liberale” pubblicato da Carocci\n\n\n\n\n\n \n h
 ttps://takethedate.it/Eventi/21862-presentazione-del-volume-lamerica-latin
 a-nella-politica-internazionale-dalla-fine-del-sistema-bipolare-alla-crisi
 -dellordine-liberale.html
DTSTART:20200924T150000Z
DTEND:20200924T170000Z
LOCATION:Palazzo Massimo alle Terme (Largo di Villa Peretti 2\, Roma)
SUMMARY:Presentazione del volume: “L’America Latina nella politica internaz
 ionale. Dalla fine del sistema bipolare alla crisi dell’ordine liberale”
URL:https://takethedate.it/Eventi/21862-presentazione-del-volume-lamerica-l
 atina-nella-politica-internazionale-dalla-fine-del-sistema-bipolare-alla-c
 risi-dellordine-liberale.html
END:VEVENT
END:VCALENDAR
