BEGIN:VCALENDAR
VERSION:2.0
PRODID:-//https://takethedate.it///NONSGML kigkonsult.se iCalcreator 2.10.15//
METHOD:PUBLISH
BEGIN:VEVENT
UID:20260419T181121CEST-8022Kwlg5l@https://takethedate.it/
DTSTAMP:20260419T161121Z
DESCRIPTION:l Sole 24 Ore e Financial Times\, due dei più importanti gruppi
  editoriali al mondo\, presentano un percorso di eventi digitali per discu
 tere della ripresa dell’economia italiana dopo il Covid-19\, con un partic
 olare focus sul rilancio del brand globale del Made in Italy.\nLa serie\, 
 che vede la partecipazione di Ministri e business leader\, si baserà sul p
 iano “New Deal” che il governo varerà per rilanciare il settore dell’expor
 t italiano. Il primo giorno vedrà la partecipazione di esponenti di alto l
 ivello del governo e di rappresentanti dei più importanti settori industri
 ali\, per discutere gli step che dovranno essere intrapresi per la ripresa
  economica dopo il Covid. I due giorni successivi si focalizzeranno vertic
 almente sui settori che caratterizzano il brand del Made in Italy: inizial
 mente le 3 “F” di Fashion\, Furniture e Food\, in seguito il settore del m
 anufacturing italiano.\nGli incontri di mezza giornata coniugheranno tavol
 e rotonde online\, presentazioni e interviste\, moderate dai giornalisti d
 el Sole 24 Ore e del Financial Times\, e saranno trasmessi in diretta stre
 aming da Milano e Londra con traduzione simultanea in italiano e inglese. 
 https://takethedate.it/Eventi/21284-made-in-italy-il-rilancio-delleconomia
 -italiana-nel-mondo-post-covid.html
DTSTART:20201006T123000Z
DTEND:20201008T150000Z
LOCATION:evento online  ()
SUMMARY:Made in Italy: il rilancio dell'economia italiana nel mondo post Co
 vid
URL:https://takethedate.it/Eventi/21284-made-in-italy-il-rilancio-dellecono
 mia-italiana-nel-mondo-post-covid.html
END:VEVENT
END:VCALENDAR
