BEGIN:VCALENDAR
VERSION:2.0
PRODID:-//https://takethedate.it///NONSGML kigkonsult.se iCalcreator 2.10.15//
METHOD:PUBLISH
BEGIN:VEVENT
UID:20260420T055258CEST-2176a2aI7C@https://takethedate.it/
DTSTAMP:20260420T035258Z
DESCRIPTION:#webinar 02/07 14:30 - La business Analytics per analizzare i c
 onsumi e la produzione di energia ed il risparmio generato dai progetti di
  efficientamento energetico.\nRegistrati qui: https://bit.ly/2Y35WMW https
 ://takethedate.it/Eventi/20362-la-business-analytics-per-analizzare-i-cons
 umi-e-la-produzione-di-energia-ed-il-risparmio-generato-dai-progetti-di-ef
 ficientamento-energetico.html
DTSTART:20200702T123000Z
DTEND:20200702T133000Z
LOCATION:evento online  ()
SUMMARY:La business Analytics per analizzare i consumi e la produzione di e
 nergia ed il risparmio generato dai progetti di efficientamento energetico
URL:https://takethedate.it/Eventi/20362-la-business-analytics-per-analizzar
 e-i-consumi-e-la-produzione-di-energia-ed-il-risparmio-generato-dai-proget
 ti-di-efficientamento-energetico.html
END:VEVENT
END:VCALENDAR
