BEGIN:VCALENDAR
VERSION:2.0
PRODID:-//https://takethedate.it///NONSGML kigkonsult.se iCalcreator 2.10.15//
METHOD:PUBLISH
BEGIN:VEVENT
UID:20260421T181045CEST-4117VjA3rU@https://takethedate.it/
DTSTAMP:20260421T161045Z
DESCRIPTION:il 26 Maggio dalle ore 10.00 alle ore 12.30 si terrà la Web Con
 ference sul tema 'Agenda digitale\, infrastrutture e piattaforme pubbliche
  alla prova dell’emergenza'\, che The Innovation Group organizza nell'ambi
 to degli eventi del DIGITAL ITALY PROGRAM 2020\, \ni protagonisti di Gover
 no\, Pubblica Amministrazione Centrale e Locale e Aziende Leader nel setto
 re del Digitale condivideranno la loro visione sullo stato delle piattafor
 me pubbliche e delle infrastrutture al servizio dei cittadini e delle impr
 ese.\nGli interventi dei relatori si incentreranno\, in particolare\, sull
 e iniziative in corso di attuazione in questa drammatica fase della vita d
 el nostro Paese. \nINTERVENTO CONCLUSIVOFabiana Dadone\, Ministro per la P
 ubblica Amministrazione\nREGISTRATI ALLA WEB CONFERENCEE PARTECIPA GRATUIT
 AMENTE IN LIVESTREAMING!!!26 Maggio 2020\, ore 10.00-12.30 https://takethe
 date.it/Eventi/19699-agenda-digitale-infrastrutture-e-piattaforme-pubblich
 e-alla-prova-dellemergenza.html
DTSTART:20200526T080000Z
DTEND:20200526T103000Z
LOCATION:evento online  ()
SUMMARY:Agenda digitale\, infrastrutture e piattaforme pubbliche alla prova
  dell’emergenza
URL:https://takethedate.it/Eventi/19699-agenda-digitale-infrastrutture-e-pi
 attaforme-pubbliche-alla-prova-dellemergenza.html
END:VEVENT
END:VCALENDAR
