BEGIN:VCALENDAR
VERSION:2.0
PRODID:-//https://takethedate.it///NONSGML kigkonsult.se iCalcreator 2.10.15//
METHOD:PUBLISH
BEGIN:VEVENT
UID:20260425T131446CEST-7170k4zDZ0@https://takethedate.it/
DTSTAMP:20260425T111446Z
DESCRIPTION:Roma\, Sala della Protomoteca del Campidoglio26 febbraio ore 15
 .00 ingresso gratuito\nSaluti Istituzionali del Presidente della IV Commis
 sione CapitolinaPermanente Ambiente Daniele Diaco\nINTERVENTI:Alfonso Peco
 raro ScanioPresidente Fondazione UniVerdeEnnio La MalfaAccademia KronosEmi
 liano MerlinOsservatorio Astronomico di Roma InafAntonelloPasini CNRUgoBet
 tio Attivista Diritti AnimaliSimona PiccoliniIllustratrice Diritti della N
 aturaModera il Prof. Bruno FediMovimento Antispecista\nSegreteria ed accre
 diti: ilclimanelpiatto@gmail.com https://takethedate.it/Eventi/18524-il-cl
 ima-nel-piatto-convegno-sui-cambiamenti-climatici.html
DTSTART:20200226T140000Z
DTEND:20200226T170000Z
LOCATION: ()
SUMMARY:Il clima nel piatto: convegno sui cambiamenti climatici
URL:https://takethedate.it/Eventi/18524-il-clima-nel-piatto-convegno-sui-ca
 mbiamenti-climatici.html
END:VEVENT
END:VCALENDAR
