BEGIN:VCALENDAR
VERSION:2.0
PRODID:-//https://takethedate.it///NONSGML kigkonsult.se iCalcreator 2.10.15//
METHOD:PUBLISH
BEGIN:VEVENT
UID:20260419T175834CEST-4929r7au8j@https://takethedate.it/
DTSTAMP:20260419T155834Z
DESCRIPTION:Roma - L’innovazione tecnico-scientifica è sempre stata alla ba
 se degli avanzamenti nel campo medico. Nell’era della ’digital disruption’
  le nuove tecnologie disponibili pervadono tutti i settori e anche la medi
 cina compie salti quantici nella diagnosi\, trattamento e cura delle patol
 ogie per offrire alle persone una maggiore aspettativa e una migliore qual
 ità della vita.\nGli ospedali stanno passando al funzionamento come unità 
 digitalizzate mentre l’armonizzazione dei dati rappresenta la vera sfida p
 er rinnovare il paradigma della gestione della sanità. In questo scenario 
 si inserisce l’adozione della più dirompente tecnologia di sempre: l’intel
 ligenza artificiale.\nIn questo contesto si inserisce la volontà e l’inter
 esse della Fondazione Policlinico Universitario Agostino Gemelli IRCCS nel
  promuovere\, in collaborazione con la Facoltà di Medicina e Chirurgia del
 l’Università Cattolica del Sacro Cuore\, il Convegno #AI4DOCS “Opportunità
  e Rischi dell’Intelligenza Artificiale in Medicina”\, che si terrà a Roma
  mercoledì 11 dicembre\, alle ore 9.00\, presso la Sala Medicinema del Pol
 iclinico Universitario A. Gemelli IRCCS (piano 8°\, ala A).\nlocandina\nIl
  Convegno sarà aperto dal Rettore dell’Università Cattolica Franco Anelli\
 , dal Presidente della Fondazione Policlinico Universitario Agostino Gemel
 li IRCCS Giovanni Raimondi\, e dall’Assistente Ecclesiastico Generale dell
 ’Università Cattolica Mons. Claudio Giuliodori.\nAlla prima sessione intit
 olata “Verso il dominio dell’algoritmo?” interverranno: Roberto Cingolani\
 , Chief Technology&Innovation Officer Leonardo SPA\, Alessandro Curioni\, 
 IBM Fellow\, VP Europe & Africa Director IBM Research\, Fabio Moioli\, Hea
 d Consulting & Services @Microsoft\, Agostino Santoni\, AD CISCO Italy\, H
 assan Sawaf\, Former Director of AI Amazon & eBay.\nSeguirà il talk di Mas
 simo Chiriatti\, autore del libro “#Humanless. L’algoritmo egoista”.\nSucc
 essivamente alcune startup italiane presenteranno le loro soluzioni di ava
 nguardia nel mondo della salute grazie all’implementazione di AI a cui seg
 uirà il dibattito di Marco Trombetti\, Founder & Ceo Translated.\nAlle ore
  11 si aprirà la seconda sessione “Quali futuri possibili per la medicina?
 ” il cui keynote speech sarà affidato a Paolo Benanti\, teologo\, esperto 
 di bioetica e nuove tecnologie e membro Task Force MISE per l’AI. Al dibat
 tito interverranno: Massimiliano Boggetti\, Presidente Confindustria Dispo
 sitivi Medici\, Roberto Chareun\, Managing Director & VP Italy Getinge\, G
 ianluca Garziera\, Digital Business Lead J&J Medical Spa\, Massimo Massett
 i\, Direttore Area Cardiovascolare e UOC Cardiochirurgia Fondazione Policl
 inico Universitario Agostino Gemelli IRCCS\, Michele Perrino\, Presidente 
 e AD Medtronic Italia Spa.\nLa terza sessione intitolata “Come governare l
 ’Intelligenza Artificiale?” sarà introdotta da Mauro Ferrari\, scienziato 
 e presidente designato per il 2020 European Research Council. Al dibattito
  interverranno: Rocco Bellantone\, Preside Facoltà Medicina e Chirurgia Un
 iversità Cattolica\, Mons. Mauro Cozzoli\, Ordinario Teologia Morale Ponti
 ficia Università Lateranense\, Alessio D’Amato\, Assessore alla Sanità e I
 ntegrazione Socio-Sanitaria della Regione Lazio\, Irene Sardellitti\, Prog
 ramme officer in the Unit Robotics and Artificial Intelligence DG Connect 
 European Commission\, Marco Simoni\, Presidente Human Technopole.\nLe conc
 lusioni sono affidate a Mons. Edgar Peña Parra\, Arcivescovo Sostituto per
  gli Affari Generali della Segreteria di Stato della Santa Sede.\nIl conve
 gno è moderato dalla giornalista\, autrice e tecnologa Barbara Gasperini. 
 https://takethedate.it/Eventi/17061-ai4docs-opportunita-e-rischi-dellintel
 ligenza-artificiale-in-medicina.html
DTSTART:20191211T082000Z
DTEND:20191211T110000Z
LOCATION:Sala Medicinema (Largo Agostino Gemelli\, 8 Roma)
SUMMARY:#AI4DOCS\, Opportunità E Rischi Dell’intelligenza Artificiale In Me
 dicina
URL:https://takethedate.it/Eventi/17061-ai4docs-opportunita-e-rischi-dellin
 telligenza-artificiale-in-medicina.html
END:VEVENT
END:VCALENDAR
