BEGIN:VCALENDAR
VERSION:2.0
PRODID:-//https://takethedate.it///NONSGML kigkonsult.se iCalcreator 2.10.15//
METHOD:PUBLISH
BEGIN:VEVENT
UID:20260422T104425CEST-4456Gc5wZt@https://takethedate.it/
DTSTAMP:20260422T084425Z
DESCRIPTION:La ASCOFARVE sta organizzando un incontro di approfondimento su
 lla Tracciabilità e Ricetta Elettronica Veterinaria\, previsto per la gior
 nata del 10 dicembre 2019 presso la Sala dell’Istituto di Santa Maria in A
 quiro\, Piazza Capranica 72\, Roma\, dalle ore 10.00 alle ore 13.00 \nSarà
  l’occasione per leggere\, analizzare e commentare\, ad 8 mesi dall’avvio 
 della tracciabilità informatizzata e della Rev\, i dati di utilizzo del si
 stema stesso presentati dal Ministero della SaluteAlla presentazione dei d
 ati seguirà una tavola rotonda alla quale parteciperanno gli stakeholders 
 del settore. https://takethedate.it/Eventi/17060-tracciabilita-e-ricetta-e
 lettronica-veterinaria-un-bilancio-sui-primi-dati.html
DTSTART:20191210T090000Z
DTEND:20191210T120000Z
LOCATION:Sala dell'Istituto di Santa Maria in Aquiro  (Piazza Capranica 72\
 , Roma)
SUMMARY:Tracciabilità e Ricetta Elettronica Veterinaria. Un bilancio sui pr
 imi dati
URL:https://takethedate.it/Eventi/17060-tracciabilita-e-ricetta-elettronica
 -veterinaria-un-bilancio-sui-primi-dati.html
END:VEVENT
END:VCALENDAR
