BEGIN:VCALENDAR
VERSION:2.0
PRODID:-//https://takethedate.it///NONSGML kigkonsult.se iCalcreator 2.10.15//
METHOD:PUBLISH
BEGIN:VEVENT
UID:20260420T103640CEST-3295c3nPUu@https://takethedate.it/
DTSTAMP:20260420T083640Z
DESCRIPTION:Roma - Il Centro di Documentazione Giornalistica\, attraverso i
 l Centrostudi Giornalismo e Comunicazione organizza\, in collaborazione co
 n OTA Osservatorio Terapie Avanzate\, il corso di formazione “Conoscere e 
 comunicare le terapie avanzate: cure rivoluzionarie”\, valido 4 crediti pe
 r la formazione professionale continua dei giornalisti.\nLe terapie avanza
 te sono strumenti di cura innovativi che offrono nuove opportunità per il 
 trattamento di malattie gravi e per le quali le terapie convenzionali si s
 ono dimostrate inadeguate. Sono strettamente legate ai progressi scientifi
 ci nel campo della biotecnologia cellulare e molecolare grazie alle quali 
 si sono sviluppate\, tra le altre\, la terapia genica\, la terapia cellula
 re e l’ingegneria tissutale.\nRaccontare con cognizione di causa questa ve
 ra e propria rivoluzione in atto nella medicina ad opera delle terapie ava
 nzate è oggi un’urgenza di comunicazione anche\, e soprattutto\, perché qu
 este toccano la vita e la salute di un numero sempre più ampio di persone.
  Per alcuni rappresentano “la speranza”\, per altri sono già la realtà. So
 no un fatto concreto per chi fa sperimentazione e ricerca\, per il sistema
  sanitario chiamato a riorganizzare i suoi processi\, per le persone affet
 te da alcune malattie. Sono una realtà in continuo divenire\, che pone del
 le domande e chiede di essere raccontata con parole nuove. Una sfida diffi
 cile che pone anche di fronte al rischio che vengano raccontati al grande 
 pubblico prevalentemente gli aspetti più semplicistici: il prezzo elevato\
 , un evento avverso inatteso o una sensazionale guarigione. Le terapie ava
 nzate possono essere questo\, ma anche moltissimo altro.\nQuesto corso si 
 pone l’obiettivo di accompagnare i giornalisti alla scoperta dei fatti e d
 elle domande aperte sulle terapie avanzate\, aiutarli a far conoscenza e a
  prendere confidenza con parole nuove\, mettendoli in condizione di evitar
 e alcune trappole e muoversi agevolmente su un terreno non facile.\nPROGRA
 MMAModera l’incontro: Ilaria Ciancaleoni Bartoli – Direttore Osservatorio 
 Terapie AvanzateOre 9.00 Registrazione dei partecipantiOre 9.30 Introduzio
 ne del corso a cura del moderatore\n9.40 INTRODUZIONETERAPIE AVANZATE: LE 
 PAROLE CHIAVE PER ORIENTARSI\nFacile dire Terapie Avanzate! Ma proviamo a 
 distinguere: Terapia Genica\, Terapia Cellulare\, Editing genomico\, CAR-T
 ….Francesca Ceradini\, Coordinatore Scientifico OTA10.00 SESSIONE IINUOVI 
 APPROCCI TERAPEUTICI: A CHE PUNTO È LA RICERCA\nDalla terapia genica all’e
 diting genomico: una medicina di precisione per il terzo millennio. Promes
 se e sfideIlaria Visigalli – Study Director GLP SR-Tiget\, San Raffaele Te
 lethon per la terapia genicaLe nuove armi per combattere i tumori: dall’im
 munoterapia alle CAR-TAnnalisa Bonfranceschi\, giornalista scientifica – G
 iornale di Scienza GalileoMedicina rigenerativa: dalle cellule staminali a
 ll’ingegneria tissutaleMichele De Luca\, Direttore Centro Medicina Rigener
 ativa “Stefano Ferrari” Università di Modena e Reggio EmiliaRegolamentazio
 ne e accesso per le terapie avanzate\, la situazione in Europa e in Italia
 Giulio Pompilio\, Vicedirettore Scientifico del Centro Cardiologico Monzin
 o di Milano – Delegato Commissione Terapie Avanzate (CAT) dell’Agenzia Eur
 opea dei Medicinali (EMA)11.40 – 12.00 COFFE BREAK\n12.00 SESSIONE IIIPROM
 ESSE E SFIDE DELLE TERAPIE AVANZATE\nCome le nuove terapie stanno rivoluzi
 onando la storia naturale dell’Atrofia Muscolare SpinaleDaniela Lauro\, Pr
 esidente Famiglie SmaDalla ricerca allo sviluppo delle Terapie Avanzate: u
 n’opportunità per il nostro PaeseMaria Luisa Nolli\, Cofondatrice e CEO di
  NCNbio\, membro del board di Assobiotec ed EuropabioTerapie avanzate e so
 stenibilità\, una nuova sfida per il Sistema Sanitario NazionaleFrancesco 
 Macchia\, esperto di politica farmaceutica e sanitaria – Editore Osservato
 rio Terapie Avanzate12.45 SEZIONE IVCOMUNICARE LE TERAPIE AVANZATE: TRA AS
 PETTATIVE E FALSE SPERANZE\nDalla pecora Dolly al caso delle gemelle manip
 olate geneticamente in Cina: è così difficile fare corretta informazione s
 ulle Terapie Avanzate?Anna Meldolesi\, Giornalista scientifica e scrittric
 eTerapie a base di staminali\, il rischio di confondere speranza e illusio
 neStefania Bettinelli\, Responsabile relazioni esterne e Comunicazione pre
 sso il Centro Medicina Rigenerativa “Stefano Ferrari” Università di Modena
  e Reggio Emilia13.30 CHIUSURA LAVORI https://takethedate.it/Eventi/17049-
 corso-formazione-informazione-e-salute.html
DTSTART:20191205T080000Z
DTEND:20191205T123000Z
LOCATION:Grand Hotel Palatino (Via Cavour 213\, Roma)
SUMMARY:Corso Formazione Informazione E Salute
URL:https://takethedate.it/Eventi/17049-corso-formazione-informazione-e-sal
 ute.html
END:VEVENT
END:VCALENDAR
