BEGIN:VCALENDAR
VERSION:2.0
PRODID:-//https://takethedate.it///NONSGML kigkonsult.se iCalcreator 2.10.15//
METHOD:PUBLISH
BEGIN:VEVENT
UID:20260421T050729CEST-8419INLmiZ@https://takethedate.it/
DTSTAMP:20260421T030729Z
DESCRIPTION:Si svolgerà a Roma il Convegno Nazionale 'Italian Employers' Da
 y 2017 - I servizi per l'impiego e le imprese si incontrano'\, organizzato
  dall'ANPAL Agenzia Nazionale Politiche Attive del Lavoro.\nAlle 9:00\, i 
 lavori saranno aperti dal saluto del Presidente del CNEL\, Tiziano Treu.\n
 A seguire\, la relazione del Direttore Generale dell'ANPAL\, Salvatore Pir
 rone\, sul tema 'Il PES network\, l'ANPAL\, la Rete e l'Employers' day'.\n
 Alle 10:00\, si svolgerà un dibattito su 'Una strategia nazionale dei serv
 izi per l'impiego nei confronti dei datori di lavoro: al via la consultazi
 one pubblica' con l'intervento\, tra gli altri\, del Presidente ANPAL\, Ma
 urizio Del Conte.\nLe conclusioni della giornata saranno affidate al Minis
 tro del Lavoro e delle Politiche Sociali\, Giuliano Poletti.\nIl convegno 
 sarà moderato da Simona D'Alessio\, giornalista dell'ANSA e di 'Italia Ogg
 i'. https://takethedate.it/Eventi/1475-italian-employers-day-2017.html
DTSTART:20171122T080000Z
DTEND:20171122T120000Z
LOCATION:Cnel (Viale David Lubin\, Roma)
SUMMARY:Italian Employers' Day 2017
URL:https://takethedate.it/Eventi/1475-italian-employers-day-2017.html
END:VEVENT
END:VCALENDAR
