BEGIN:VCALENDAR
VERSION:2.0
PRODID:-//https://takethedate.it///NONSGML kigkonsult.se iCalcreator 2.10.15//
METHOD:PUBLISH
BEGIN:VEVENT
UID:20260425T045040CEST-9882jMCofo@https://takethedate.it/
DTSTAMP:20260425T025040Z
DESCRIPTION:26.09.2019 - Polo Universitario San Giovanni a Teduccio\, Napol
 i https://takethedate.it/Eventi/14728-campania-digital-summit.html
DTSTART:20190926T060000Z
DTEND:20190926T160000Z
LOCATION:Campus di San Giovanni a Teduccio Napoli (Corso Nicolangelo Protop
 isani\, Napoli )
SUMMARY:Campania digital summit
URL:https://takethedate.it/Eventi/14728-campania-digital-summit.html
END:VEVENT
END:VCALENDAR
