BEGIN:VCALENDAR
VERSION:2.0
PRODID:-//https://takethedate.it///NONSGML kigkonsult.se iCalcreator 2.10.15//
METHOD:PUBLISH
BEGIN:VEVENT
UID:20260424T015625CEST-8128RnFjUm@https://takethedate.it/
DTSTAMP:20260423T235625Z
DESCRIPTION:Dal 13 al 15 settembre 2019 Pescara ospiterà ecoMOB EXPO Villag
 e 2019\, la manifestazione fieristica dedicata alla mobilità sostenibile\,
  al cicloturismo e all'ecologia ambientale. Agli Associati di Elettricità 
 Futura che intendono prendere parte all'evento sono riservate delle condiz
 ioni speciali di partecipazione https://takethedate.it/Eventi/14602-ecomob
 -expo-village-2019.html
DTSTART:20190913T070000Z
DTEND:20190915T170000Z
LOCATION:Polo Fieristico Pescara (Via Tirino 431\, Pescara )
SUMMARY:ecoMOB EXPO Village 2019
URL:https://takethedate.it/Eventi/14602-ecomob-expo-village-2019.html
END:VEVENT
END:VCALENDAR
