BEGIN:VCALENDAR
VERSION:2.0
PRODID:-//https://takethedate.it///NONSGML kigkonsult.se iCalcreator 2.10.15//
METHOD:PUBLISH
BEGIN:VEVENT
UID:20260421T081043CEST-7689xJU3Ul@https://takethedate.it/
DTSTAMP:20260421T061043Z
DESCRIPTION:LUISSAula 207 Viale Romania 32\, Roma\nClosing lecture of the f
 irst week of the Jean Monnet Module and Summer Program on Parliamentary De
 mocracy in Europe “Parliamentary Elections and Democratic Accountability i
 n the Age of Populism” (8th edition).\nKeynote speakerMark Franklin Harvar
 d University Center for European Studies\, Trinity College Connecticut htt
 ps://takethedate.it/Eventi/14557-the-european-elections-as-a-turning-point
 .html
DTSTART:20190712T093000Z
DTEND:20190712T113000Z
LOCATION: ()
SUMMARY:The European Elections as a turning point
URL:https://takethedate.it/Eventi/14557-the-european-elections-as-a-turning
 -point.html
END:VEVENT
END:VCALENDAR
