BEGIN:VCALENDAR
VERSION:2.0
PRODID:-//https://takethedate.it///NONSGML kigkonsult.se iCalcreator 2.10.15//
METHOD:PUBLISH
BEGIN:VEVENT
UID:20260423T114044CEST-1361cthUzo@https://takethedate.it/
DTSTAMP:20260423T094044Z
DESCRIPTION:Piattaforme per il processamento e l'immagazzinamento di Big Da
 ta - 23 Maggio 2019 ore 15:30\nCAMERA DI COMMERCIO DI PERUGIA https://take
 thedate.it/Eventi/13450-piattaforme-per-il-processamento-e-limmagazzinamen
 to-di-big-data.html
DTSTART:20190523T133000Z
DTEND:20190523T153000Z
LOCATION:CAMERA DI COMMERCIO DI PERUGIA (Via Cacciatori delle Alpi 42\, Per
 ugia )
SUMMARY:Piattaforme per il processamento e l'immagazzinamento di Big Data
URL:https://takethedate.it/Eventi/13450-piattaforme-per-il-processamento-e-
 limmagazzinamento-di-big-data.html
END:VEVENT
END:VCALENDAR
