BEGIN:VCALENDAR
VERSION:2.0
PRODID:-//https://takethedate.it///NONSGML kigkonsult.se iCalcreator 2.10.15//
METHOD:PUBLISH
BEGIN:VEVENT
UID:20260422T083017CEST-54807rvVI4@https://takethedate.it/
DTSTAMP:20260422T063017Z
DESCRIPTION:La presentazione ufficiale di Charta 2020 si terrà martedì 16 a
 prile h14:15\, nella sala stampa della Camera dei Deputati. \nInterverrann
 o:  Paolo Acunzo\, Carlo Cappa\, Amedeo Ciaccheri\, Mattia Ciampicacigli\,
  Andrea Costa\, Caterina Di Fazio\, Alessandro Fusacchia\, Paola Giacomoni
 \, Lorenzo Marsili\, Gian Giacomo Migone\, Rossella Muroni\, Simone Oggion
 ni\, Alessio Pascucci\, Federico Pizzarotti\, Peppe Provenzano\, Elena Pul
 cini\, Sara Prestianni\, Arturo Scotto. https://takethedate.it/Eventi/1279
 3-presentazione-ufficiale-charta-2020.html
DTSTART:20190416T121500Z
DTEND:20190416T140000Z
LOCATION:Sala stampa Camera dei deputati (Via della Missione 4\, Roma)
SUMMARY:Presentazione ufficiale CHARTA 2020
URL:https://takethedate.it/Eventi/12793-presentazione-ufficiale-charta-2020
 .html
END:VEVENT
END:VCALENDAR
