BEGIN:VCALENDAR
VERSION:2.0
PRODID:-//https://takethedate.it///NONSGML kigkonsult.se iCalcreator 2.10.15//
METHOD:PUBLISH
BEGIN:VEVENT
UID:20260421T071828CEST-1308OJ7ax5@https://takethedate.it/
DTSTAMP:20260421T051828Z
DESCRIPTION:Mercoledì 22 novembre (alle ore 17\,30) si terrà l'incontro dal
  titolo 'L'economia che serve: dibattito pubblico e ignoranza economica'. 
 L'evento si svolgerà presso la Sala lauree dell'Università degli studi di 
 Milano (Via Conservatorio\, 7).Nell'occasione verrà presentato il libro di
  Enrico Colombatto'L'economia che serve' (Giappichelli\, 2017).\nInsieme a
 ll'Autore interverranno Luigi Curini (Professore associato in Scienza Poli
 tica) e Paolo Del Debbio (Giornalista\, conduttore televisivo e docente di
  Etica ed Economia all’Università IULM). Introdurrà e coordinerà l'incontr
 o Luigi Marco Bassani (Professore ordinario di Storia delle Dottrine Polit
 iche).\n“L’economia che serve” è una guida rigorosa per coloro che desider
 ano familiarizzare con i concetti essenziali dell’economia\, acquisendo gl
 i elementi chiave in forma sistematica e comprensibile. Il libro incoraggi
 a inoltre il lettore a considerare alternative ad alcuni luoghi comuni\, a
  riconoscere la necessità dei giudizi di valore e ad adottare un modo di p
 ensare innovativo. https://takethedate.it/Eventi/1274-leconomia-che-serve-
 dibattito-pubblico-e-ignoranza-economica.html
DTSTART:20171122T163000Z
DTEND:20171122T183000Z
LOCATION: ()
SUMMARY:L'economia che serve: dibattito pubblico e ignoranza economica
URL:https://takethedate.it/Eventi/1274-leconomia-che-serve-dibattito-pubbli
 co-e-ignoranza-economica.html
END:VEVENT
END:VCALENDAR
