BEGIN:VCALENDAR
VERSION:2.0
PRODID:-//https://takethedate.it///NONSGML kigkonsult.se iCalcreator 2.10.15//
METHOD:PUBLISH
BEGIN:VEVENT
UID:20260426T054036CEST-9715Hzk8WZ@https://takethedate.it/
DTSTAMP:20260426T034036Z
DESCRIPTION:Il programma e le modalità di iscrizione\, aggiornato a novembr
 e 2018\, del XX Congresso AOICO 2019 si terrà a Città Sant’Angelo (PE) il 
 prossimo 25 e 26 gennaio 2019 sotto la presidenza del Prof. Livio Presutti
 .Il tema del Congresso è “L’ENDOSCOPIA IN ORL”. https://takethedate.it/Eve
 nti/10681-l-endoscopia-in-orl.html
DTSTART:20190125T073000Z
DTEND:20190126T123000Z
LOCATION:Villa Michelangelo  (Str. Lungofino 2\,  Citta' Sant'Angelo)
SUMMARY:L' endoscopia in ORL
URL:https://takethedate.it/Eventi/10681-l-endoscopia-in-orl.html
END:VEVENT
END:VCALENDAR
