BEGIN:VCALENDAR
VERSION:2.0
PRODID:-//https://takethedate.it///NONSGML kigkonsult.se iCalcreator 2.10.15//
METHOD:PUBLISH
BEGIN:VEVENT
UID:20260422T133931CEST-2031eopcvN@https://takethedate.it/
DTSTAMP:20260422T113931Z
DESCRIPTION:ASSEMBLEA ANNUALE 2026 Giovedì 23 aprile Parte pubblica - dalle
  11.30 alle 12.30 parte pubblica Energia e imprese: come affrontare la cri
 si per salvaguardare la nostra manifattura.\nIntroduzione • Aldo Chiarini 
 - Presidente Gas Intensive. Tavola rotonda politica • Nicola Procaccini – 
 Fratelli d’Italia - Responsabile Dipartimento Ambiente/Energia.\n• Luca Sq
 ueri – Forza Italia - Responsabile Dipartimento Energia. • Vinicio Peluffo
  – Partito Democratico - Capogruppo Commissione Attività produttive Camera
  dei Deputati.\n• Fabrizio Benzoni – Azione - Capogruppo Commissione Attiv
 ità produttive Camera dei Deputati. • Alberto Gusmeroli - Lega - President
 e Commissione Attività produttive Camera dei Deputati.\nLa strategia del M
 ASE • Federico Boschi – Ministero dell’Ambiente e della Sicurezza Energeti
 ca – Capo Dipartimento energia. Conclusioni • Aurelio Regina - Delegato de
 l Presidente di Confindustria per l'Energia e per la Transizione energetic
 a In diretta streaming - link per il collegamento https://takethedate.it/e
 nergia-e-ambiente/Eventi/52388-assemblea-annuale-gas-intensive-2026-energi
 a-e-imprese-come-affrontare-la-crisi-per-salvaguardare-la-nostra-manifattu
 ra.html
DTSTART:20260423T093000Z
DTEND:20260423T123000Z
LOCATION:Roma (Roma)
SUMMARY:Assemblea annuale Gas Intensive 2026 - Energia e imprese: come affr
 ontare la crisi per salvaguardare la nostra manifattura
URL:https://takethedate.it/energia-e-ambiente/Eventi/52388-assemblea-annual
 e-gas-intensive-2026-energia-e-imprese-come-affrontare-la-crisi-per-salvag
 uardare-la-nostra-manifattura.html
END:VEVENT
END:VCALENDAR
