BEGIN:VCALENDAR
VERSION:2.0
PRODID:-//https://takethedate.it///NONSGML kigkonsult.se iCalcreator 2.10.15//
METHOD:PUBLISH
BEGIN:VEVENT
UID:20260421T010222CEST-6475dD6NCo@https://takethedate.it/
DTSTAMP:20260420T230222Z
DESCRIPTION:Si svolgerà a Roma presso Palazzo della Cancelleria\, nell’omon
 ima piazza al civico 1\, la prima edizione del Natural Risk Forum\, con il
  titolo: “I rischi catastrofali naturali: dati\, modelli e risorse per una
  governance condivisa”. L’appuntamento è per martedì 21 aprile ore 9.30\nM
 odera Laura Chimenti\, TG1\n9:30 Accredito e welcome coffee\n10:00 Apertur
 a dei lavori: Stefano Genovese\, Head of Institutional & Public Affairs\, 
 Unipol Assicurazioni e coordinatore del Think Tank Natural Risk Forum\n10:
 10 Interventi istituzionali:Attilio Fontana*\, Presidente della Regione Lo
 mbardiaFederico Freni\, Sottosegretario\, Ministero dell’Economia e delle 
 Finanze\n10:25 Keynote speechNatural Risk Index: l’impatto economico delle
  catastrofi naturali in Italiail Natural Risk Index è un indicatore origin
 ale che fornisce una misura sintetica e comparabile dei rischi catastrofal
 i sul territorio italiano considerando congiuntamente le tre dimensioni ch
 e definiscono il rischio: pericolosità\, esposizione e vulnerabilità\, sup
 portando amministrazioni locali e centrali\, privati cittadini e imprese n
 ella valutazione dell’impatto economico dei rischi catastrofali e dei bene
 fici derivanti dagli investimenti in prevenzione e adattamento.\nEnrico Sa
 n Pietro\, Group Insurance General Manager\, Unipol AssicurazioniMassimili
 ano Arizzi\, Amministratore Delegato\, Gallagher Re Italia\n10:45 Panel I 
 – La vulnerabilità dei territori e il valore della prevenzioneMassimo Bito
 nci*\, Assessore allo Sviluppo Economico – Ricerca e Innovazione e Attrazi
 one Investimenti\, Regione VenetoGuido Castelli\, Commissario straordinari
 o del Governo per la riparazione e la ricostruzione sisma 2016Fabrizio Cur
 cio\, Commissario straordinario di Governo alla ricostruzione nei territor
 i colpiti dall’alluvione verificatasi in Emilia-Romagna\, Toscane e Marche
 Giovanni D’Ercole\, Direttore dell’Ufficio I – Ufficio per l’integrazione 
 dei dati\, il coordinamento e la gestione di progetti specifici\, Dipartim
 ento Casa Italia\, Presidenza del Consiglio dei MinistriMarco Fioravanti\,
  Presidente del Consiglio Anci e Sindaco di Ascoli Piceno\n*In attesa di c
 onferma\n11:50 Panel II – Le politiche di adattamento: il ruolo del settor
 e pubblico\, del settore privato e gli spazi per il partenariato\nFausto B
 ianchi\, Presidente Nazionale Piccola Industria\, ConfindustriaPino Bicchi
 elli\, Presidente della Commissione parlamentare d’inchiesta sul rischio i
 drogeologico e sismico\, Camera dei DeputatiStefano Pasqualini\, Capo dell
 a Divisione Analisi Macroprudenziale\, IVASSGianfrancesco Romeo\, Direttor
 e Generale della Direzione Generale Consumatori e Mercato\, Ministero dell
 e Imprese e del Made in Italy\n12:30 Panel III – Dati e modelli a servizio
  della prevenzione\nMassimo Chiappini\, Dirigente di Ricerca\, Istituto Na
 zionale di Geofisica e Vulcanologia (INGV)Laura D’Aprile\, Capo del Dipart
 imento sviluppo sostenibile (DiSS)\, Ministero dell’Ambiente e della Sicur
 ezza EnergeticaMaria Siclari\, Direttore Generale\, Istituto Superiore per
  la Protezione e la Ricerca Ambientale (ISPRA)\n13:00 Conclusioni\nNello M
 usumeci*\, Ministro per la Protezione Civile e le Politiche del Mare\nLigh
 t lunch https://takethedate.it/energia-e-ambiente/Eventi/52338-i-rischi-ca
 tastrofali-naturali-dati-modelli-e-risorse-per-una-governance-condivisa.ht
 ml
DTSTART:20260421T073000Z
DTEND:20260421T113000Z
LOCATION:Roma (Roma)
SUMMARY:I rischi catastrofali naturali: dati\, modelli e risorse per una go
 vernance condivisa
URL:https://takethedate.it/energia-e-ambiente/Eventi/52338-i-rischi-catastr
 ofali-naturali-dati-modelli-e-risorse-per-una-governance-condivisa.html
END:VEVENT
END:VCALENDAR
