BEGIN:VCALENDAR
VERSION:2.0
PRODID:-//https://takethedate.it///NONSGML kigkonsult.se iCalcreator 2.10.15//
METHOD:PUBLISH
BEGIN:VEVENT
UID:20260422T132743CEST-6744LXxCgP@https://takethedate.it/
DTSTAMP:20260422T112743Z
DESCRIPTION:Prosegue con un webinar\, organizzato in collaborazione con CNA
  e in programma martedì 28 aprile (ore 14.30 – 16.30)\, la Campagna nazion
 ale di formazione\, informazione e sensibilizzazione sull’efficienza energ
 etica per le PMI\, promossa da ENEA in collaborazione con il Ministero del
 l’Ambiente e della Sicurezza Energetica\, in attuazione dell’art. 8\, comm
 a 10 ter del D.\nLgs. 102/2014. L’iniziativa si inserisce in un più ampio 
 programma di supporto alle imprese\, finalizzato a favorire l’adozione di 
 interventi di efficientamento energetico e a promuovere la diffusione dell
 e diagnosi energetiche nei siti produttivi.\nIl webinar rappresenta la sec
 onda tappa del percorso e costituisce un’importante occasione di confronto
  tra istituzioni\, imprese\, associazioni di categoria e professionisti de
 l settore.\nDurante l’incontro saranno approfondite le principali barriere
  tecniche ed economiche che ostacolano l’adozione di misure di efficienza 
 energetica nelle PMI. Nel corso dei lavori verranno inoltre presentati str
 umenti e soluzioni operative a supporto delle imprese\, utili a superare t
 ali criticità e ad accompagnare i processi di transizione energetica dei c
 omparti produttivi.\nIn particolare\, ENEA illustrerà gli strumenti\, i to
 ol e le linee guida operative per la redazione delle diagnosi energetiche\
 , sviluppati rispettivamente all’interno del Piano di Sensibilizzazione\, 
 nell’ambito delle attività del Progetto Ricerca di Sistema e a livello dei
  progetti internazionali coordinati da ENEA.\nL’incontro rappresenta infin
 e un momento utile per raccogliere esigenze\, condividere esperienze e ind
 ividuare proposte concrete a sostegno delle PMI nel percorso verso una mag
 giore efficienza energetica e una transizione sostenibile. https://takethe
 date.it/energia-e-ambiente/Eventi/52251-diagnosi-energetiche-per-le-pmi-se
 i-appuntamenti-per-potenziarne-lefficacia.html
DTSTART:20260428T123000Z
DTEND:20260428T143000Z
LOCATION:evento online  ()
SUMMARY:Diagnosi Energetiche per le PMI: sei appuntamenti per potenziarne l
 'efficacia
URL:https://takethedate.it/energia-e-ambiente/Eventi/52251-diagnosi-energet
 iche-per-le-pmi-sei-appuntamenti-per-potenziarne-lefficacia.html
END:VEVENT
END:VCALENDAR
