BEGIN:VCALENDAR
VERSION:2.0
PRODID:-//https://takethedate.it///NONSGML kigkonsult.se iCalcreator 2.10.15//
METHOD:PUBLISH
BEGIN:VEVENT
UID:20260421T010405CEST-1640nKu9OW@https://takethedate.it/
DTSTAMP:20260420T230405Z
DESCRIPTION:“Transizione Energetica in Puglia: Prospettive e Opportunità” p
 romosso dal Think Tank Transizione Energetica – Rinnovabili\, un'iniziativ
 a di CORE in collaborazione con ENEL e patrocinata da Elettricità Futura.
 \nLa tavola rotonda si terrà il 21 aprile 2026\, dalle ore 9:30 alle ore 1
 2:30\, presso la Sala Consiglio Generale – Confindustria Bari Bat\, in Via
  Amendola\, 172/5 Bari.\nIl Think Tank Transizione Energetica – Rinnovabil
 i promuove in Puglia un appuntamento territoriale volto a fornire una comp
 rensione approfondita e strutturata della transizione energetica nell’isol
 a\, tra prospettive e opportunità\, con particolare riferimento allo svilu
 ppo delle fonti rinnovabili\, alle condizioni che ne influenzano l’effetti
 va realizzazione e alle implicazioni economiche\, sociali e territoriali c
 onnesse a questo processo.\nL’incontro sarà l’occasione per presentare le 
 risultanze della ricerca “Lo stato delle rinnovabili in Italia”\, condotta
  dal gruppo di ricerca Energy e Strategy del Politecnico di Milano\, in kn
 owledge partnership con Enel Foundation\, con il supporto dell’Università 
 di Palermo\, del Politecnico di Bari\, del Tecnopolo Mediterraneo per lo S
 viluppo Sostenibile e per confrontarsi sul tema con esperti di settore\, r
 appresentanti del mondo delle istituzioni\, dell’accademia e della ricerca
 .\nProgramma dell'evento:- 9:30 – 10:00\, Registrazione e Welcome Coffee- 
 10:00 – 10:30\, Saluti istituzionali- 10:45 – 11:15\, Open remarks e prese
 ntazione della ricerca “Lo stato delle rinnovabili in Italia”- 11:15 – 12:
 15\, Tavola rotonda- 12:15 – 12:30\, Conclusioni.\nPer partecipare è neces
 sario inviare un'email all’indirizzo: events@corelations.it https://taketh
 edate.it/energia-e-ambiente/Eventi/52228-transizione-energetica-in-puglia-
 prospettive-e-opportunita.html
DTSTART:20260421T073000Z
DTEND:20260421T103000Z
LOCATION:Bari (Lungomare Imperatore Augusto\, Bari)
SUMMARY:Transizione energetica in Puglia: prospettive e opportunità
URL:https://takethedate.it/energia-e-ambiente/Eventi/52228-transizione-ener
 getica-in-puglia-prospettive-e-opportunita.html
END:VEVENT
END:VCALENDAR
