BEGIN:VCALENDAR
VERSION:2.0
PRODID:-//https://takethedate.it///NONSGML kigkonsult.se iCalcreator 2.10.15//
METHOD:PUBLISH
BEGIN:VEVENT
UID:20260422T133740CEST-8854BIUbzA@https://takethedate.it/
DTSTAMP:20260422T113740Z
DESCRIPTION:Venerdì 24 aprile 2026\, dalle ore 10:00 alle 11:30\, si terrà 
 online il secondo webinar del progetto “Per un salto di classe”.\nLa decar
 bonizzazione del settore residenziale rappresenta oggi una delle sfide più
  rilevanti della transizione energetica. In Italia\, il riscaldamento dome
 stico è ancora fortemente dipendente dal gas: superare questo modello sign
 ifica ridurre le emissioni\, migliorare l’efficienza energetica degli edif
 ici e costruire un sistema più sostenibile\, resiliente e meno esposto all
 e fluttuazioni dei prezzi dell’energia.\nIl webinar approfondirà il ruolo 
 dell’elettrificazione dei consumi – a partire dalle pompe di calore – e l’
 integrazione con le fonti rinnovabili\, analizzando soluzioni tecnologiche
  già disponibili\, casi concreti e opportunità per cittadini\, imprese e a
 mministrazioni.\nIntervengono Gabriele Di Prenda (Daikin Air Conditioning 
 Italy)\, Silvia Biandrate (Edera S.p.A.) e Nicola De Angelis (Dea Solar Co
 nsulting). Coordina Giacomo Pellini\, Kyoto Club.\nLa partecipazione è gra
 tuita\, previa registrazione. Il link per seguire il webinar verrà inviato
  agli iscritti.\nIscriviti qui: https://attendee.gotowebinar.com/register/
 3788859249894491736 https://takethedate.it/energia-e-ambiente/Eventi/52224
 -case-senza-gas-la-transizione-elettrica-per-decarbonizzare-il-residenzial
 e.html
DTSTART:20260424T080000Z
DTEND:20260424T093000Z
LOCATION:evento online  ()
SUMMARY:Case senza gas: la transizione elettrica per decarbonizzare il resi
 denziale
URL:https://takethedate.it/energia-e-ambiente/Eventi/52224-case-senza-gas-l
 a-transizione-elettrica-per-decarbonizzare-il-residenziale.html
END:VEVENT
END:VCALENDAR
