BEGIN:VCALENDAR
VERSION:2.0
PRODID:-//https://takethedate.it///NONSGML kigkonsult.se iCalcreator 2.10.15//
METHOD:PUBLISH
BEGIN:VEVENT
UID:20260422T131430CEST-4759ium4ir@https://takethedate.it/
DTSTAMP:20260422T111430Z
DESCRIPTION:L’Organisation Méditerranéenne de l'Énergie et du Clima (Omec)\
 , Wec Italia ed Edison invitano alla presentazione in Italia delle “Medite
 rranean Energy Perspectives 2025”\, il report di riferimento di Omec sul f
 uturo energetico e climatico della regione.\nL’evento si terrà a Roma\, c/
 o Civita\, p.zza Venezia 11. https://takethedate.it/energia-e-ambiente/Eve
 nti/51762-mediterranean-energy-perspectives-2025.html
DTSTART:20260422T080000Z
DTEND:20260422T110000Z
LOCATION:Roma (Roma)
SUMMARY:Mediterranean Energy Perspectives 2025
URL:https://takethedate.it/energia-e-ambiente/Eventi/51762-mediterranean-en
 ergy-perspectives-2025.html
END:VEVENT
END:VCALENDAR
