BEGIN:VCALENDAR
VERSION:2.0
PRODID:-//https://takethedate.it///NONSGML kigkonsult.se iCalcreator 2.10.15//
METHOD:PUBLISH
BEGIN:VEVENT
UID:20260423T131529CEST-9971uehrrl@https://takethedate.it/
DTSTAMP:20260423T111529Z
DESCRIPTION:La Scuola di scienze della politica dell’Università degli Studi
  Internazionali di Roma – UNINT\, in collaborazione con il Centro di ricer
 ca GEODI\, organizza l’evento dal titolo “Le guerre ibride: i nuovi orizzo
 nti del belligerare”\, che si terrà il 23 aprile 2026 dalle ore 14:00 in a
 ula magna e live streaming.\nProgramma Saluti istituzionali Ciro Sbailò\, 
 professore di Diritto Pubblico Comparato UNINT Introduce Pino Pisicchio\, 
 Direttore della Scuola di scienze della politica e docente UNINT Intervien
 e Mario Calingiuri\, Professore ordinario di Pedagogia generale e sociale 
 Università di Calabria\nPartecipazione Possono partecipare tutti gli iscri
 tti alla Scuola di scienze della politica in presenza e live streaming su 
  Everywhere. https://takethedate.it/difesa-e-aerospazio/Eventi/52474-le-gu
 erre-ibride-i-nuovi-orizzonti-del-belligerare.html
DTSTART:20260423T120000Z
DTEND:20260423T150000Z
LOCATION:Roma (Roma)
SUMMARY:Le guerre ibride: i nuovi orizzonti del belligerare
URL:https://takethedate.it/difesa-e-aerospazio/Eventi/52474-le-guerre-ibrid
 e-i-nuovi-orizzonti-del-belligerare.html
END:VEVENT
END:VCALENDAR
