BEGIN:VCALENDAR
VERSION:2.0
PRODID:-//https://takethedate.it///NONSGML kigkonsult.se iCalcreator 2.10.15//
METHOD:PUBLISH
BEGIN:VEVENT
UID:20260423T131112CEST-66753BXUI4@https://takethedate.it/
DTSTAMP:20260423T111112Z
DESCRIPTION:SAVE THE DATE Luiss Diplomatic and Security Forum Il Mediterran
 eo Strategico IV Conferenza sulle Scelte Strategiche Nazionali #DIPLOSEC 2
 026\n11 giugno 2026\, ore 14:30 Campus Luiss di Viale Romania 32\, Roma ht
 tps://takethedate.it/difesa-e-aerospazio/Eventi/52414-il-mediterraneo-stra
 tegico.html
DTSTART:20260611T123000Z
DTEND:20260611T153000Z
LOCATION:Roma (Roma)
SUMMARY:Il mediterraneo strategico
URL:https://takethedate.it/difesa-e-aerospazio/Eventi/52414-il-mediterraneo
 -strategico.html
END:VEVENT
END:VCALENDAR
