BEGIN:VCALENDAR
VERSION:2.0
PRODID:-//https://takethedate.it///NONSGML kigkonsult.se iCalcreator 2.10.15//
METHOD:PUBLISH
BEGIN:VEVENT
UID:20260423T115743CEST-1682Hp5TvS@https://takethedate.it/
DTSTAMP:20260423T095743Z
DESCRIPTION:Visita ufficiale del Presidente della Repubblica del Kenya\, Wi
 lliam Kipchirchir Samoei Arap Ruto (media ufficiali)\nore 12:00 - Quirinal
 e\nOra: 15:30 - Palazzo Chigi https://takethedate.it/difesa-e-aerospazio/E
 venti/52318-visita-ufficiale-del-presidente-della-repubblica-del-kenya-wil
 liam-kipchirchir-samoei-arap-ruto.html
DTSTART:20260420T100000Z
DTEND:20260420T150000Z
LOCATION:Roma (Roma)
SUMMARY:Visita ufficiale del Presidente della Repubblica del Kenya\, Willia
 m Kipchirchir Samoei Arap Ruto
URL:https://takethedate.it/difesa-e-aerospazio/Eventi/52318-visita-ufficial
 e-del-presidente-della-repubblica-del-kenya-william-kipchirchir-samoei-ara
 p-ruto.html
END:VEVENT
END:VCALENDAR
