BEGIN:VCALENDAR
VERSION:2.0
PRODID:-//https://takethedate.it///NONSGML kigkonsult.se iCalcreator 2.10.15//
METHOD:PUBLISH
BEGIN:VEVENT
UID:20260423T133359CEST-5542rVu1aA@https://takethedate.it/
DTSTAMP:20260423T113359Z
DESCRIPTION:Nel corso degli ultimi dodici mesi\, l’Italia si è cimentata co
 n un contesto internazionale sempre più instabile\, dovendo far fronte a u
 na serie di priorità di politica estera: il posizionamento del paese di fr
 onte all’ascesa della seconda amministrazione Usa guidata da Donald Trump\
 , il perdurare della guerra contro l’Ucraina e l’intensificarsi di minacce
  ibride in Europa\, l’ulteriore inasprimento del conflitto mediorientale a
  Gaza e la crisi del multilateralismo\, le politiche climatiche ed energet
 iche e le decisioni nel comparto della difesa.\nA partire dall’annuale Rap
 porto dello IAI\, realizzato con il supporto della Fondazione CSF e della 
 Fondazione Compagnia di San Paolo\, questo evento rappresenta un'occasione
  per discutere su quella che è stata la politica estera italiana nello sco
 rso anno\, ma anche per identificare gli snodi da considerare per i prossi
 mi mesi\, coinvolgendo studenti\, docenti e cittadinanza.\nLa partecipazio
 ne è libera. Non è previsto streaming. https://takethedate.it/difesa-e-aer
 ospazio/Eventi/52257-litalia-nel-mondo-instabile-presentazione-del-rapport
 o-sulla-politica-estera-italiana-2025.html
DTSTART:20260430T160000Z
DTEND:20260430T190000Z
LOCATION:Trento (Trento)
SUMMARY:L’Italia nel mondo instabile: presentazione del rapporto sulla poli
 tica estera italiana 2025
URL:https://takethedate.it/difesa-e-aerospazio/Eventi/52257-litalia-nel-mon
 do-instabile-presentazione-del-rapporto-sulla-politica-estera-italiana-202
 5.html
END:VEVENT
END:VCALENDAR
