BEGIN:VCALENDAR
VERSION:2.0
PRODID:-//https://takethedate.it///NONSGML kigkonsult.se iCalcreator 2.10.15//
METHOD:PUBLISH
BEGIN:VEVENT
UID:20260421T121149CEST-5072BMXsus@https://takethedate.it/
DTSTAMP:20260421T101149Z
DESCRIPTION:27 aprile 2026\, ore 17.30 Sala conferenze Fondazione Basso L’i
 ncontro sarà trasmesso in streaming sul canale YouTube della Fondazione Ba
 sso.\nFondazione Lelio e Lisli Basso e Sapienza Università di Roma (Dipart
 imento di storia\, antropologia\, religioni\, arte\, spettacolo) – Progett
 o di Terza missione in collaborazione con Campagna Sbilanciamoci!\, Associ
 azione Salviamo la Costituzione\, Centro Riforma dello Stato\, Rete Italia
 na Pace e Disarmo\, Greenpeace Italia presentano il ciclo di incontri Le g
 uerre e noi.\nIsraele e Palestina (8 aprile – 22 giugno 2026). Anna Foa\, 
 Sapienza Università di Roma\, autrice di Il suicidio di Israele (Laterza\,
  2024) e Mai più (Laterza\, 2026) intervengono Chiara Cruciati\, Vicediret
 trice del quotidiano il Manifesto Maria Elena Delia\, Portavoce della Glob
 al Sumud Flotilla coordina Luigi Marini\, già magistrato\, Fondazione Bass
 o.\nL’incontro sarà trasmesso in streaming sul canale YouTube della Fondaz
 ione Basso https://takethedate.it/difesa-e-aerospazio/Eventi/52244-le-guer
 re-e-noi-israele-e-palestina.html
DTSTART:20260427T153000Z
DTEND:20260427T183000Z
LOCATION:Roma (Roma)
SUMMARY:Le guerre e noi. Israele e Palestina
URL:https://takethedate.it/difesa-e-aerospazio/Eventi/52244-le-guerre-e-noi
 -israele-e-palestina.html
END:VEVENT
END:VCALENDAR
