BEGIN:VCALENDAR
VERSION:2.0
PRODID:-//https://takethedate.it///NONSGML kigkonsult.se iCalcreator 2.10.15//
METHOD:PUBLISH
BEGIN:VEVENT
UID:20260423T131435CEST-7723fV1vWM@https://takethedate.it/
DTSTAMP:20260423T111435Z
DESCRIPTION:L’incontro\, parte delle iniziative “Ripensare la cultura della
  sinistra” promosse dal GruppoBiasco con Casa della Cultura e Fondazione B
 asso\, si svolge on line e in presenzacontemporanea presso le sedi di Casa
  della Cultura – Milano\, via Borgogna 3 e di FondazioneBasso – Roma\, via
  della Dogana Vecchia 5. Diretta streaming sul sitowww.casadellacultura.it
  e sul canale YouTube della Casa della Cultura https://takethedate.it/dife
 sa-e-aerospazio/Eventi/52242-le-conseguenze-economiche-delle-guerre.html
DTSTART:20260430T160000Z
DTEND:20260430T190000Z
LOCATION:Milano (Milano)
SUMMARY:Le conseguenze economiche delle guerre
URL:https://takethedate.it/difesa-e-aerospazio/Eventi/52242-le-conseguenze-
 economiche-delle-guerre.html
END:VEVENT
END:VCALENDAR
