BEGIN:VCALENDAR
VERSION:2.0
PRODID:-//https://takethedate.it///NONSGML kigkonsult.se iCalcreator 2.10.15//
METHOD:PUBLISH
BEGIN:VEVENT
UID:20260423T121733CEST-96296TJVpa@https://takethedate.it/
DTSTAMP:20260423T101733Z
DESCRIPTION:I Security and Defence Days rappresentano l’iniziativa annuale 
 della Fondazione De Gasperi dedicata ai temi della sicurezza europea e tra
 nsatlantica. Dopo cinque edizioni\, l’evento si è affermato quale autorevo
 le piattaforma di dibattito sulle principali questioni strategiche e geopo
 litiche che interessano l’Unione Europea e la NATO. \nAlla luce dell’evolu
 zione del contesto globale\, la sesta edizione\, realizzata in collaborazi
 one con il Wilfried Martens Centre for European Studies\, prevede l’organi
 zzazione di una serie di conferenze tematiche che riuniranno autorità di g
 overno\, esponenti del mondo politico\, diplomatico e militare\, esperti e
  opinion leader\, chiamati in particolare a concentrare l’attenzione sull’
 Europa e sulle questioni prioritarie che ne definiscono oggi l’agenda in m
 ateria di sicurezza e difesa. \nI lavori della prima conferenza\, “L’Europ
 a nel nuovo scenario internazionale”\, prenderanno in esame le relazioni d
 ell’Europa con Stati Uniti\, Cina e Russia\, approfondendo la riflessione 
 sulla politica estera americana e sulle sue implicazioni per il legame tra
 nsatlantico. Sarà inoltre analizzato il ruolo della diplomazia economica d
 ell’Unione Europea\, insieme alle nuove sfide e minacce provenienti sia da
 l Medio Oriente che da teatri emergenti come l’Artico. https://takethedate
 .it/difesa-e-aerospazio/Eventi/52134-europe-and-the-new-international-scen
 ario.html
DTSTART:20260428T070000Z
DTEND:20260428T110000Z
LOCATION:Roma (Roma)
SUMMARY:Europe and the new international scenario
URL:https://takethedate.it/difesa-e-aerospazio/Eventi/52134-europe-and-the-
 new-international-scenario.html
END:VEVENT
END:VCALENDAR
