BEGIN:VCALENDAR
VERSION:2.0
PRODID:-//https://takethedate.it///NONSGML kigkonsult.se iCalcreator 2.10.15//
METHOD:PUBLISH
BEGIN:VEVENT
UID:20260423T133747CEST-2311hXUwCd@https://takethedate.it/
DTSTAMP:20260423T113747Z
DESCRIPTION:\nMilano\, 11 Giu 2026\, 18:00 - 19:00\, Sala di lettura\, Vial
 e Bligny 22\nSpeaker\nSimonetta Di Pippo\nModera\nStefano Feltri\n \n http
 s://takethedate.it/difesa-e-aerospazio/Eventi/49729-lo-spazio-puo-rafforza
 re-la-sovranita-europea.html
DTSTART:20260611T160000Z
DTEND:20260611T170000Z
LOCATION:Milano (Milano)
SUMMARY: Lo spazio può rafforzare la sovranità europea?
URL:https://takethedate.it/difesa-e-aerospazio/Eventi/49729-lo-spazio-puo-r
 afforzare-la-sovranita-europea.html
END:VEVENT
END:VCALENDAR
