BEGIN:VCALENDAR
VERSION:2.0
PRODID:-//https://takethedate.it///NONSGML kigkonsult.se iCalcreator 2.10.15//
METHOD:PUBLISH
BEGIN:VEVENT
UID:20260423T131323CEST-6692V5UWUZ@https://takethedate.it/
DTSTAMP:20260423T111323Z
DESCRIPTION:Su iniziativa della Vice Presidente del Senato Anna Rossomando 
 si invita alla conferenza stampa\nI DIRITTI DELLE DONNE NEI PAESI IN GUERR
 A\nMartedì 5 maggio 2026 ore 15.00 – 17.00 Sala Caduti di Nassirya presso 
 il Senato della Repubblica\, Piazza Madama\, Roma Modera: Anna Laura Bussa
  Giornalista parlamentare\nSALUTI ISTITUZIONALI Anna Rossomando – Vice Pre
 sidente del Senato della Repubblica\nINTRODUZIONE Simona Malpezzi – Senatr
 ice\, Intergruppo parlamentare sulla condizione delle donne afghane Guido 
 D’Ubaldo – Presidente Ordine dei Giornalisti del Lazio Serena Lanini – Pre
 sidente Associazione Primavera APS Anna Doro – Fondatrice Movimento #nonsi
 romandietro Elisa Mulone – Segretaria Confprofessioni Lazio\nAFGHANISTAN\,
  DOVE TUTTO CAMBIA PER NON CAMBIARE MAI Giorgia Pietropaoli – Scrittice e 
 Professoressa Simona Lanzoni – Vicepresidente Fondazione Pangea ETS Paola 
 Tamburini – Giornalista\, Curatrice del podcast Frida - Contro la violenza
  di genere\nLA CONDIZIONE DELLE DONNE NEI TEATRI DI GUERRA Susanna Camusso
  – Senatrice\, Commissione Straordinaria per la tutela e la promozione dei
  diritti umani Marilonia Castellone – Vice Presidente del Senato della Rep
 ubblica Ilaria Cucchi – Senatrice\, Commissione Giustizia\nLA STRATEGIA DE
 LL’UE PER PROMUOVERE E PROTEGGERE I DIRITTI UMANI DELLE DONNE NEL MONDO Ro
 berta Postiglione – Segretaria Associazione Primavera APS\nIn collaborazio
 ne con Associazione Primavera APS Commissione Pari Opportunità dell’Ordine
  dei Giornalisti del Lazio Evento valido per la FPC di giornaliste/i (5 cr
 editi).\nL’accesso alla sala – con abbigliamento consono\, e per gli uomin
 i\, obbligo di cravatta – è consentito fino alla capienza massima\,\nPer i
 nformazioni e per l’accesso all’evento\, è necessario accreditarsi inviand
 o una mail a segreteria@springaps.org con risposta di conferma di disponib
 ilità posti.\nL’evento sarà trasmesso in diretta streaming al link https:/
 /webtv.senato.it E sarà anche su YouTube del Senato https://www.youtube.co
 m/user/SenatoItaliano\n  https://takethedate.it/cultura/Eventi/52523-i-dir
 itti-delle-donne-nei-paesi-in-guerra.html
DTSTART:20260505T130000Z
DTEND:20260505T150000Z
LOCATION:Roma (Roma)
SUMMARY:I diritti delle donne nei paesi in guerra
URL:https://takethedate.it/cultura/Eventi/52523-i-diritti-delle-donne-nei-p
 aesi-in-guerra.html
END:VEVENT
END:VCALENDAR
