BEGIN:VCALENDAR
VERSION:2.0
PRODID:-//https://takethedate.it///NONSGML kigkonsult.se iCalcreator 2.10.15//
METHOD:PUBLISH
BEGIN:VEVENT
UID:20260423T131945CEST-47660ScXnu@https://takethedate.it/
DTSTAMP:20260423T111945Z
DESCRIPTION:\n\n https://takethedate.it/cultura/Eventi/52510-presentazione-
 libro-giulia-aloisio-vestire-le-parole-conferenza-stampa-di-federica-onori
 .html
DTSTART:20260423T140000Z
DTEND:20260423T160000Z
LOCATION:Roma (Roma)
SUMMARY:Presentazione libro Giulia Aloisio 'Vestire le parole' - Conferenza
  stampa di Federica Onori
URL:https://takethedate.it/cultura/Eventi/52510-presentazione-libro-giulia-
 aloisio-vestire-le-parole-conferenza-stampa-di-federica-onori.html
END:VEVENT
END:VCALENDAR
