BEGIN:VCALENDAR
VERSION:2.0
PRODID:-//https://takethedate.it///NONSGML kigkonsult.se iCalcreator 2.10.15//
METHOD:PUBLISH
BEGIN:VEVENT
UID:20260423T133507CEST-91426kAK8R@https://takethedate.it/
DTSTAMP:20260423T113507Z
DESCRIPTION:\n\n https://takethedate.it/cultura/Eventi/52508-presentazione-
 film-alvaro-lultima-notte-conferenza-stampa-di-vanessa-cattoi.html
DTSTART:20260423T110000Z
DTEND:20260423T130000Z
LOCATION:Roma (Roma)
SUMMARY:Presentazione film Alvaro\, l'ultima notte - Conferenza stampa di V
 anessa Cattoi
URL:https://takethedate.it/cultura/Eventi/52508-presentazione-film-alvaro-l
 ultima-notte-conferenza-stampa-di-vanessa-cattoi.html
END:VEVENT
END:VCALENDAR
