BEGIN:VCALENDAR
VERSION:2.0
PRODID:-//https://takethedate.it///NONSGML kigkonsult.se iCalcreator 2.10.15//
METHOD:PUBLISH
BEGIN:VEVENT
UID:20260423T131652CEST-19745rgJaB@https://takethedate.it/
DTSTAMP:20260423T111652Z
DESCRIPTION:\n\n https://takethedate.it/cultura/Eventi/52507-presentazione-
 pink-charity-conferenza-stampa-di-fabrizio-benzoni.html
DTSTART:20260423T080000Z
DTEND:20260423T110000Z
LOCATION:Roma (Roma)
SUMMARY:Presentazione Pink Charity - Conferenza stampa di Fabrizio Benzoni
URL:https://takethedate.it/cultura/Eventi/52507-presentazione-pink-charity-
 conferenza-stampa-di-fabrizio-benzoni.html
END:VEVENT
END:VCALENDAR
