BEGIN:VCALENDAR
VERSION:2.0
PRODID:-//https://takethedate.it///NONSGML kigkonsult.se iCalcreator 2.10.15//
METHOD:PUBLISH
BEGIN:VEVENT
UID:20260423T133358CEST-91896nh58F@https://takethedate.it/
DTSTAMP:20260423T113358Z
DESCRIPTION:Giovedì prossimo\, 23 aprile\, con inizio alle ore 15.30\, si t
 errà nella Sala Atti Parlamentari presso la Biblioteca del Senato “Giovann
 i Spadolini”\, il convegno “Prima di tutto libere – Contro la violenza fon
 damentalista su donne e bambine”. L’evento\, organizzato su iniziativa del
  senatore di Fratelli d’Italia Andrea De Priamo\, vedrà gli interventi del
 lo stesso De Priamo\; di Sara Kelany\, deputato di Fratelli d’Italia e res
 ponsabile dipartimento Immigrazione nel partito\; Marina Terragni\, garant
 e per l’infanzia e l’adolescenza\; Amani El Nasif\, attivista e scrittrice
  sfuggita a un matrimonio forzato\; Maria Saltari\, dirigente medico e gin
 ecologa\, referente percorso salute donna dell’Istituto Nazionale per la p
 romozione della salute delle popolazioni Migranti ed il contrasto delle ma
 lattie della Povertà (Inmp). Modererà l’incontro Daniele Capezzone\, diret
 tore de Il Tempo.\n \nI giornalisti possono accreditarsi scrivendo a segre
 teria.depriamo@senato.it. https://takethedate.it/cultura/Eventi/52433-prim
 a-di-tutto-libere---contro-la-violenza-fondamentalista-su-donne-e-bambine.
 html
DTSTART:20260423T133000Z
DTEND:20260423T153000Z
LOCATION:Roma (Roma)
SUMMARY:Prima di tutto libere – Contro la violenza fondamentalista su donne
  e bambine
URL:https://takethedate.it/cultura/Eventi/52433-prima-di-tutto-libere---con
 tro-la-violenza-fondamentalista-su-donne-e-bambine.html
END:VEVENT
END:VCALENDAR
