BEGIN:VCALENDAR
VERSION:2.0
PRODID:-//https://takethedate.it///NONSGML kigkonsult.se iCalcreator 2.10.15//
METHOD:PUBLISH
BEGIN:VEVENT
UID:20260423T115419CEST-0540suJV0J@https://takethedate.it/
DTSTAMP:20260423T095419Z
DESCRIPTION:1966-2026: 60 anni dell’Automotoclub Storico Italiano. L’Italia
  e il valore del patrimonio culturale motoristico. Su iniziativa della sen
 atrice Licia Ronzulli https://takethedate.it/cultura/Eventi/52419-60-anni-
 dellautomotoclub-storico-italiano.html
DTSTART:20260421T130000Z
DTEND:20260421T150000Z
LOCATION:Roma (Roma)
SUMMARY:60 anni dell’Automotoclub Storico Italiano
URL:https://takethedate.it/cultura/Eventi/52419-60-anni-dellautomotoclub-st
 orico-italiano.html
END:VEVENT
END:VCALENDAR
