BEGIN:VCALENDAR
VERSION:2.0
PRODID:-//https://takethedate.it///NONSGML kigkonsult.se iCalcreator 2.10.15//
METHOD:PUBLISH
BEGIN:VEVENT
UID:20260423T115002CEST-6743RwBUsp@https://takethedate.it/
DTSTAMP:20260423T095002Z
DESCRIPTION:Presentazione del libro “La dieta mediatica” di Filippo Solibel
 lo. Su iniziativa della senatrice Vincenza Rando https://takethedate.it/cu
 ltura/Eventi/52417-presentazione-del-libro-la-dieta-mediatica.html
DTSTART:20260421T120000Z
DTEND:20260421T140000Z
LOCATION:Roma (Roma)
SUMMARY:Presentazione del libro “La dieta mediatica”
URL:https://takethedate.it/cultura/Eventi/52417-presentazione-del-libro-la-
 dieta-mediatica.html
END:VEVENT
END:VCALENDAR
