BEGIN:VCALENDAR
VERSION:2.0
PRODID:-//https://takethedate.it///NONSGML kigkonsult.se iCalcreator 2.10.15//
METHOD:PUBLISH
BEGIN:VEVENT
UID:20260423T115434CEST-4509K3sukA@https://takethedate.it/
DTSTAMP:20260423T095434Z
DESCRIPTION: \nMartedì 21 Aprile 2026 ore 10:00\nAlle ore 10\, presso l'Aul
 a dei Gruppi parlamentari della Camera si svolge il convegno 'Nonostante i
 l lungo tempo trascorso...storia\, giustizia\, memoria'.\n  https://taketh
 edate.it/cultura/Eventi/52406-nonostante-il-lungo-tempo-trascorso-storia-g
 iustizia-memoria.html
DTSTART:20260421T080000Z
DTEND:20260421T100000Z
LOCATION:Roma (Roma)
SUMMARY:​Nonostante il lungo tempo trascorso...storia\, giustizia\, memoria
URL:https://takethedate.it/cultura/Eventi/52406-nonostante-il-lungo-tempo-t
 rascorso-storia-giustizia-memoria.html
END:VEVENT
END:VCALENDAR
