BEGIN:VCALENDAR
VERSION:2.0
PRODID:-//https://takethedate.it///NONSGML kigkonsult.se iCalcreator 2.10.15//
METHOD:PUBLISH
BEGIN:VEVENT
UID:20260423T125057CEST-42503cTD9W@https://takethedate.it/
DTSTAMP:20260423T105057Z
DESCRIPTION: \nValeria\, rivoluzionaria e riformista. Su iniziativa della s
 enatrice Anna Rossomando e del senatore Walter Verini\n \n  https://taketh
 edate.it/cultura/Eventi/52399-valeria-rivoluzionaria-e-riformista.html
DTSTART:20260421T090000Z
DTEND:20260421T110000Z
LOCATION:Roma (Roma)
SUMMARY:Valeria\, rivoluzionaria e riformista
URL:https://takethedate.it/cultura/Eventi/52399-valeria-rivoluzionaria-e-ri
 formista.html
END:VEVENT
END:VCALENDAR
